BEGIN:VCALENDAR
VERSION:2.0
PRODID:-//Tatiana Mac – Life &amp; Business &amp; Relationship  Coach - ECPv6.13.2.1//NONSGML v1.0//EN
CALSCALE:GREGORIAN
METHOD:PUBLISH
X-ORIGINAL-URL:https://tatianamaclifecoaching.com
X-WR-CALDESC:Events for Tatiana Mac – Life &amp; Business &amp; Relationship  Coach
REFRESH-INTERVAL;VALUE=DURATION:PT1H
X-Robots-Tag:noindex
X-PUBLISHED-TTL:PT1H
BEGIN:VTIMEZONE
TZID:UTC
BEGIN:STANDARD
TZOFFSETFROM:+0000
TZOFFSETTO:+0000
TZNAME:UTC
DTSTART:20180101T000000
END:STANDARD
END:VTIMEZONE
BEGIN:VEVENT
DTSTART;TZID=UTC:20190414T110000
DTEND;TZID=UTC:20190428T160000
DTSTAMP:20260420T124339
CREATED:20160310T100854Z
LAST-MODIFIED:20181026T113821Z
UID:232-1555239600-1556467200@tatianamaclifecoaching.com
SUMMARY:A Married Couple's Diary
DESCRIPTION:Etiam vitae leo et diam pellentesque porta. Sed eleifend ultricies risus\, vel rutrum erat commodo ut. Praesent finibus congue euismod. Nullam scelerisque massa vel augue placerat\, a tempor sem egestas. Curabitur placerat finibus lacus. Quisque at vehicula magna\, quis fringilla sapien. Ut interdum dictum ultricies. Aliquam facilisis purus non dui scelerisque\, bibendum vestibulum risus fermentum. Nam eget efficitur felis. Sed sollicitudin justo ut libero viverra\, sed efficitur erat finibus. Mauris nunc neque\, elementum id dignissim ut\, posuere sit amet dolor. Aliquam turpis neque\, mollis eu pharetra et\, placerat et arcu. Proin orci eros\, dapibus in auctor ac\, elementum a justo. Fusce varius eu nunc iaculis auctor. \nVivamus posuere tellus ac fringilla maximus. Maecenas ut diam nibh. Suspendisse venenatis et dolor sit amet malesuada. Cras a nisl in purus vestibulum facilisis. Aenean blandit\, lectus in dapibus interdum\, magna mauris fermentum risus\, nec iaculis ex quam ultricies tellus. Sed nec convallis ex\, nec tristique nisi. Aenean semper tempor vehicula. Duis id mi tristique\, pulvinar neque at\, lobortis tortor.
URL:https://tatianamaclifecoaching.com/event/a-married-couples-diary/
LOCATION:Life Coach Center\, 123 New Lenox\, Chicago\, IL\, 60606\, United States
ATTACH;FMTTYPE=image/jpeg:https://tatianamaclifecoaching.com/wp-content/uploads/2016/03/event-3.jpg
END:VEVENT
BEGIN:VEVENT
DTSTART;TZID=UTC:20190317T110000
DTEND;TZID=UTC:20190330T160000
DTSTAMP:20260420T124339
CREATED:20160310T094906Z
LAST-MODIFIED:20181026T113811Z
UID:217-1552820400-1553961600@tatianamaclifecoaching.com
SUMMARY:Meet Judie Larson
DESCRIPTION:Etiam vitae leo et diam pellentesque porta. Sed eleifend ultricies risus\, vel rutrum erat commodo ut. Praesent finibus congue euismod. Nullam scelerisque massa vel augue placerat\, a tempor sem egestas. Curabitur placerat finibus lacus. Quisque at vehicula magna\, quis fringilla sapien. Ut interdum dictum ultricies. Aliquam facilisis purus non dui scelerisque\, bibendum vestibulum risus fermentum. Nam eget efficitur felis. Sed sollicitudin justo ut libero viverra\, sed efficitur erat finibus. Mauris nunc neque\, elementum id dignissim ut\, posuere sit amet dolor. Aliquam turpis neque\, mollis eu pharetra et\, placerat et arcu. Proin orci eros\, dapibus in auctor ac\, elementum a justo. Fusce varius eu nunc iaculis auctor. \nVivamus posuere tellus ac fringilla maximus. Maecenas ut diam nibh. Suspendisse venenatis et dolor sit amet malesuada. Cras a nisl in purus vestibulum facilisis. Aenean blandit\, lectus in dapibus interdum\, magna mauris fermentum risus\, nec iaculis ex quam ultricies tellus. Sed nec convallis ex\, nec tristique nisi. Aenean semper tempor vehicula. Duis id mi tristique\, pulvinar neque at\, lobortis tortor.
URL:https://tatianamaclifecoaching.com/event/meet-judie-larson/
LOCATION:Life Coach Center\, 123 New Lenox\, Chicago\, IL\, 60606\, United States
ATTACH;FMTTYPE=image/jpeg:https://tatianamaclifecoaching.com/wp-content/uploads/2016/03/event-8.jpg
END:VEVENT
BEGIN:VEVENT
DTSTART;TZID=UTC:20190217T090000
DTEND;TZID=UTC:20190221T150000
DTSTAMP:20260420T124339
CREATED:20160310T100205Z
LAST-MODIFIED:20181026T113800Z
UID:226-1550394000-1550761200@tatianamaclifecoaching.com
SUMMARY:Omm\, or What the Heck is Equilibrium?
DESCRIPTION:Etiam vitae leo et diam pellentesque porta. Sed eleifend ultricies risus\, vel rutrum erat commodo ut. Praesent finibus congue euismod. Nullam scelerisque massa vel augue placerat\, a tempor sem egestas. Curabitur placerat finibus lacus. Quisque at vehicula magna\, quis fringilla sapien. Ut interdum dictum ultricies. Aliquam facilisis purus non dui scelerisque\, bibendum vestibulum risus fermentum. Nam eget efficitur felis. Sed sollicitudin justo ut libero viverra\, sed efficitur erat finibus. Mauris nunc neque\, elementum id dignissim ut\, posuere sit amet dolor. Aliquam turpis neque\, mollis eu pharetra et\, placerat et arcu. Proin orci eros\, dapibus in auctor ac\, elementum a justo. Fusce varius eu nunc iaculis auctor. \nVivamus posuere tellus ac fringilla maximus. Maecenas ut diam nibh. Suspendisse venenatis et dolor sit amet malesuada. Cras a nisl in purus vestibulum facilisis. Aenean blandit\, lectus in dapibus interdum\, magna mauris fermentum risus\, nec iaculis ex quam ultricies tellus. Sed nec convallis ex\, nec tristique nisi. Aenean semper tempor vehicula. Duis id mi tristique\, pulvinar neque at\, lobortis tortor.
URL:https://tatianamaclifecoaching.com/event/omm-or-what-the-heck-is-equilibrium/
LOCATION:Life Coach Center\, 123 New Lenox\, Chicago\, IL\, 60606\, United States
ATTACH;FMTTYPE=image/jpeg:https://tatianamaclifecoaching.com/wp-content/uploads/2016/03/event-4.jpg
END:VEVENT
BEGIN:VEVENT
DTSTART;TZID=UTC:20190120T110000
DTEND;TZID=UTC:20190125T150000
DTSTAMP:20260420T124339
CREATED:20160310T100310Z
LAST-MODIFIED:20181026T113750Z
UID:227-1547982000-1548428400@tatianamaclifecoaching.com
SUMMARY:We Design Our Future
DESCRIPTION:Etiam vitae leo et diam pellentesque porta. Sed eleifend ultricies risus\, vel rutrum erat commodo ut. Praesent finibus congue euismod. Nullam scelerisque massa vel augue placerat\, a tempor sem egestas. Curabitur placerat finibus lacus. Quisque at vehicula magna\, quis fringilla sapien. Ut interdum dictum ultricies. Aliquam facilisis purus non dui scelerisque\, bibendum vestibulum risus fermentum. Nam eget efficitur felis. Sed sollicitudin justo ut libero viverra\, sed efficitur erat finibus. Mauris nunc neque\, elementum id dignissim ut\, posuere sit amet dolor. Aliquam turpis neque\, mollis eu pharetra et\, placerat et arcu. Proin orci eros\, dapibus in auctor ac\, elementum a justo. Fusce varius eu nunc iaculis auctor. \nVivamus posuere tellus ac fringilla maximus. Maecenas ut diam nibh. Suspendisse venenatis et dolor sit amet malesuada. Cras a nisl in purus vestibulum facilisis. Aenean blandit\, lectus in dapibus interdum\, magna mauris fermentum risus\, nec iaculis ex quam ultricies tellus. Sed nec convallis ex\, nec tristique nisi. Aenean semper tempor vehicula. Duis id mi tristique\, pulvinar neque at\, lobortis tortor.
URL:https://tatianamaclifecoaching.com/event/we-design-our-future/
LOCATION:Life Coach Center\, 123 New Lenox\, Chicago\, IL\, 60606\, United States
ATTACH;FMTTYPE=image/jpeg:https://tatianamaclifecoaching.com/wp-content/uploads/2016/03/event-2.jpg
END:VEVENT
BEGIN:VEVENT
DTSTART;TZID=UTC:20181216T080000
DTEND;TZID=UTC:20181230T170000
DTSTAMP:20260420T124339
CREATED:20160310T100415Z
LAST-MODIFIED:20181026T113739Z
UID:228-1544947200-1546189200@tatianamaclifecoaching.com
SUMMARY:Constant Pursuit of Happiness
DESCRIPTION:Etiam vitae leo et diam pellentesque porta. Sed eleifend ultricies risus\, vel rutrum erat commodo ut. Praesent finibus congue euismod. Nullam scelerisque massa vel augue placerat\, a tempor sem egestas. Curabitur placerat finibus lacus. Quisque at vehicula magna\, quis fringilla sapien. Ut interdum dictum ultricies. Aliquam facilisis purus non dui scelerisque\, bibendum vestibulum risus fermentum. Nam eget efficitur felis. Sed sollicitudin justo ut libero viverra\, sed efficitur erat finibus. Mauris nunc neque\, elementum id dignissim ut\, posuere sit amet dolor. Aliquam turpis neque\, mollis eu pharetra et\, placerat et arcu. Proin orci eros\, dapibus in auctor ac\, elementum a justo. Fusce varius eu nunc iaculis auctor. \nVivamus posuere tellus ac fringilla maximus. Maecenas ut diam nibh. Suspendisse venenatis et dolor sit amet malesuada. Cras a nisl in purus vestibulum facilisis. Aenean blandit\, lectus in dapibus interdum\, magna mauris fermentum risus\, nec iaculis ex quam ultricies tellus. Sed nec convallis ex\, nec tristique nisi. Aenean semper tempor vehicula. Duis id mi tristique\, pulvinar neque at\, lobortis tortor.
URL:https://tatianamaclifecoaching.com/event/constant-pursuit-of-happiness/
LOCATION:Life Coach Center\, 123 New Lenox\, Chicago\, IL\, 60606\, United States
ATTACH;FMTTYPE=image/jpeg:https://tatianamaclifecoaching.com/wp-content/uploads/2016/03/event-1.jpg
END:VEVENT
BEGIN:VEVENT
DTSTART;TZID=UTC:20181118T090000
DTEND;TZID=UTC:20181125T130000
DTSTAMP:20260420T124339
CREATED:20160310T100520Z
LAST-MODIFIED:20181026T113729Z
UID:229-1542531600-1543150800@tatianamaclifecoaching.com
SUMMARY:Let's Talk About Motivation
DESCRIPTION:Etiam vitae leo et diam pellentesque porta. Sed eleifend ultricies risus\, vel rutrum erat commodo ut. Praesent finibus congue euismod. Nullam scelerisque massa vel augue placerat\, a tempor sem egestas. Curabitur placerat finibus lacus. Quisque at vehicula magna\, quis fringilla sapien. Ut interdum dictum ultricies. Aliquam facilisis purus non dui scelerisque\, bibendum vestibulum risus fermentum. Nam eget efficitur felis. Sed sollicitudin justo ut libero viverra\, sed efficitur erat finibus. Mauris nunc neque\, elementum id dignissim ut\, posuere sit amet dolor. Aliquam turpis neque\, mollis eu pharetra et\, placerat et arcu. Proin orci eros\, dapibus in auctor ac\, elementum a justo. Fusce varius eu nunc iaculis auctor. \nVivamus posuere tellus ac fringilla maximus. Maecenas ut diam nibh. Suspendisse venenatis et dolor sit amet malesuada. Cras a nisl in purus vestibulum facilisis. Aenean blandit\, lectus in dapibus interdum\, magna mauris fermentum risus\, nec iaculis ex quam ultricies tellus. Sed nec convallis ex\, nec tristique nisi. Aenean semper tempor vehicula. Duis id mi tristique\, pulvinar neque at\, lobortis tortor.
URL:https://tatianamaclifecoaching.com/event/lets-talk-about-motivation/
LOCATION:Life Coach Center\, 123 New Lenox\, Chicago\, IL\, 60606\, United States
ATTACH;FMTTYPE=image/jpeg:https://tatianamaclifecoaching.com/wp-content/uploads/2016/03/event-7.jpg
END:VEVENT
BEGIN:VEVENT
DTSTART;TZID=UTC:20181021T110000
DTEND;TZID=UTC:20181106T160000
DTSTAMP:20260420T124339
CREATED:20160310T100623Z
LAST-MODIFIED:20181026T113720Z
UID:230-1540119600-1541520000@tatianamaclifecoaching.com
SUMMARY:You vs Your Fears
DESCRIPTION:Etiam vitae leo et diam pellentesque porta. Sed eleifend ultricies risus\, vel rutrum erat commodo ut. Praesent finibus congue euismod. Nullam scelerisque massa vel augue placerat\, a tempor sem egestas. Curabitur placerat finibus lacus. Quisque at vehicula magna\, quis fringilla sapien. Ut interdum dictum ultricies. Aliquam facilisis purus non dui scelerisque\, bibendum vestibulum risus fermentum. Nam eget efficitur felis. Sed sollicitudin justo ut libero viverra\, sed efficitur erat finibus. Mauris nunc neque\, elementum id dignissim ut\, posuere sit amet dolor. Aliquam turpis neque\, mollis eu pharetra et\, placerat et arcu. Proin orci eros\, dapibus in auctor ac\, elementum a justo. Fusce varius eu nunc iaculis auctor. \nVivamus posuere tellus ac fringilla maximus. Maecenas ut diam nibh. Suspendisse venenatis et dolor sit amet malesuada. Cras a nisl in purus vestibulum facilisis. Aenean blandit\, lectus in dapibus interdum\, magna mauris fermentum risus\, nec iaculis ex quam ultricies tellus. Sed nec convallis ex\, nec tristique nisi. Aenean semper tempor vehicula. Duis id mi tristique\, pulvinar neque at\, lobortis tortor.
URL:https://tatianamaclifecoaching.com/event/you-vs-your-fears/
LOCATION:Life Coach Center\, 123 New Lenox\, Chicago\, IL\, 60606\, United States
ATTACH;FMTTYPE=image/jpeg:https://tatianamaclifecoaching.com/wp-content/uploads/2016/03/event-6.jpg
END:VEVENT
BEGIN:VEVENT
DTSTART;TZID=UTC:20180916T100000
DTEND;TZID=UTC:20180922T140000
DTSTAMP:20260420T124339
CREATED:20160310T100737Z
LAST-MODIFIED:20181026T113709Z
UID:231-1537092000-1537624800@tatianamaclifecoaching.com
SUMMARY:Making Choices is Easy
DESCRIPTION:Etiam vitae leo et diam pellentesque porta. Sed eleifend ultricies risus\, vel rutrum erat commodo ut. Praesent finibus congue euismod. Nullam scelerisque massa vel augue placerat\, a tempor sem egestas. Curabitur placerat finibus lacus. Quisque at vehicula magna\, quis fringilla sapien. Ut interdum dictum ultricies. Aliquam facilisis purus non dui scelerisque\, bibendum vestibulum risus fermentum. Nam eget efficitur felis. Sed sollicitudin justo ut libero viverra\, sed efficitur erat finibus. Mauris nunc neque\, elementum id dignissim ut\, posuere sit amet dolor. Aliquam turpis neque\, mollis eu pharetra et\, placerat et arcu. Proin orci eros\, dapibus in auctor ac\, elementum a justo. Fusce varius eu nunc iaculis auctor. \nVivamus posuere tellus ac fringilla maximus. Maecenas ut diam nibh. Suspendisse venenatis et dolor sit amet malesuada. Cras a nisl in purus vestibulum facilisis. Aenean blandit\, lectus in dapibus interdum\, magna mauris fermentum risus\, nec iaculis ex quam ultricies tellus. Sed nec convallis ex\, nec tristique nisi. Aenean semper tempor vehicula. Duis id mi tristique\, pulvinar neque at\, lobortis tortor.
URL:https://tatianamaclifecoaching.com/event/making-choices-is-easy/
LOCATION:Life Coach Center\, 123 New Lenox\, Chicago\, IL\, 60606\, United States
ATTACH;FMTTYPE=image/jpeg:https://tatianamaclifecoaching.com/wp-content/uploads/2016/03/event-5.jpg
END:VEVENT
END:VCALENDAR